BEGIN:VCALENDAR
VERSION:2.0
PRODID:-//Mount Adams Buddhist Temple - ECPv6.15.20//NONSGML v1.0//EN
CALSCALE:GREGORIAN
METHOD:PUBLISH
X-WR-CALNAME:Mount Adams Buddhist Temple
X-ORIGINAL-URL:https://mtadamsbuddhisttemple.org
X-WR-CALDESC:Events for Mount Adams Buddhist Temple
REFRESH-INTERVAL;VALUE=DURATION:PT1H
X-Robots-Tag:noindex
X-PUBLISHED-TTL:PT1H
BEGIN:VTIMEZONE
TZID:America/Los_Angeles
BEGIN:DAYLIGHT
TZOFFSETFROM:-0800
TZOFFSETTO:-0700
TZNAME:PDT
DTSTART:20250309T100000
END:DAYLIGHT
BEGIN:STANDARD
TZOFFSETFROM:-0700
TZOFFSETTO:-0800
TZNAME:PST
DTSTART:20251102T090000
END:STANDARD
BEGIN:DAYLIGHT
TZOFFSETFROM:-0800
TZOFFSETTO:-0700
TZNAME:PDT
DTSTART:20260308T100000
END:DAYLIGHT
BEGIN:STANDARD
TZOFFSETFROM:-0700
TZOFFSETTO:-0800
TZNAME:PST
DTSTART:20261101T090000
END:STANDARD
BEGIN:DAYLIGHT
TZOFFSETFROM:-0800
TZOFFSETTO:-0700
TZNAME:PDT
DTSTART:20270314T100000
END:DAYLIGHT
BEGIN:STANDARD
TZOFFSETFROM:-0700
TZOFFSETTO:-0800
TZNAME:PST
DTSTART:20271107T090000
END:STANDARD
END:VTIMEZONE
BEGIN:VEVENT
DTSTART;TZID=America/Los_Angeles:20260421T060000
DTEND;TZID=America/Los_Angeles:20260421T193000
DTSTAMP:20260423T012044
CREATED:20251122T205851Z
LAST-MODIFIED:20251122T210132Z
UID:10015453-1776751200-1776799800@mtadamsbuddhisttemple.org
SUMMARY:Morning Meditation and Discussion
DESCRIPTION:>>>> ZOOM ID/Link <<<<\nhttps://us02web.zoom.us/j/5093952030 \nAll are welcome to be a part of our morning service. Experience not necessary. Those of any faith or lack thereof are welcome. All that is required is an open mind to learn how to promote wellness\, happiness\, love\, and peace to oneself and all sentient beings. Typically\, a service will include the following: \n* 6:00 a.m.  Sutra study and discussion.\n* 6:30 a.m.  Check in. (How you’re doing.)\n* 7:00 a.m. Silent meditation\, seated on cushion\, chair\, or one of the pews.\n* Much love and laughter.
URL:https://mtadamsbuddhisttemple.org/event/morning-meditation-and-discussion-2/2026-04-21/
LOCATION:Mt. Adams Buddhist Temple\, 46 Stoller Rd\, Trout Lake\, WA\, 98650\, United States
CATEGORIES:Buddhist Meditations, Events, & Services
END:VEVENT
BEGIN:VEVENT
DTSTART;TZID=America/Los_Angeles:20260421T120000
DTEND;TZID=America/Los_Angeles:20260421T130000
DTSTAMP:20260423T012044
CREATED:20240624T035748Z
LAST-MODIFIED:20251122T200427Z
UID:10010741-1776772800-1776776400@mtadamsbuddhisttemple.org
SUMMARY:Meditation Service in Hood River
DESCRIPTION:IN PERSON ONLY \nPlease join us for a meditation service in which we learn and discuss the teachings of The Buddha\, practice seated meditation\, and share with one another in a supportive and non-judgmental\, safe space.  And why do we do this?  To alleviate our suffering (or dissatisfactoriness) and work towards an interconnection with everything to alleviate the suffering of all.   \nLocated behind Kickstand Coffee.
URL:https://mtadamsbuddhisttemple.org/event/meditation-service-in-hood-river/2026-04-21/
LOCATION:Trinity Natural Medicine\, 1412 13th St Suite 200\, Hood River\, OR\, 97031
CATEGORIES:Buddhist Meditations, Events, & Services
ATTACH;FMTTYPE=image/jpeg:https://mtadamsbuddhisttemple.org/wp-content/uploads/2024/06/buddha-5082641_1920.jpg
END:VEVENT
END:VCALENDAR