BEGIN:VCALENDAR
VERSION:2.0
PRODID:-//Mount Adams Buddhist Temple - ECPv6.15.20//NONSGML v1.0//EN
CALSCALE:GREGORIAN
METHOD:PUBLISH
X-WR-CALNAME:Mount Adams Buddhist Temple
X-ORIGINAL-URL:https://mtadamsbuddhisttemple.org
X-WR-CALDESC:Events for Mount Adams Buddhist Temple
REFRESH-INTERVAL;VALUE=DURATION:PT1H
X-Robots-Tag:noindex
X-PUBLISHED-TTL:PT1H
BEGIN:VTIMEZONE
TZID:UTC
BEGIN:STANDARD
TZOFFSETFROM:+0000
TZOFFSETTO:+0000
TZNAME:UTC
DTSTART:20240101T000000
END:STANDARD
END:VTIMEZONE
BEGIN:VEVENT
DTSTART;TZID=UTC:20250709T183000
DTEND;TZID=UTC:20250709T200000
DTSTAMP:20260424T051419
CREATED:20221021T035548Z
LAST-MODIFIED:20221021T035548Z
UID:10013752-1752085800-1752091200@mtadamsbuddhisttemple.org
SUMMARY:Thich Nhat Hanh Study Group Meeting
DESCRIPTION:Thich Nhat Hanh Study Group Meetings are 2nd and 4th Wednesday\, 6:30-8:00 pm. Contact Bonnie for group ZOOM number email\, bon2626wit@att.net
URL:https://mtadamsbuddhisttemple.org/event/thich-nhat-hanh-study-group-meeting/2025-07-09/
LOCATION:Mt. Adams Buddhist Temple\, 46 Stoller Rd\, Trout Lake\, WA\, 98650\, United States
CATEGORIES:Buddhist Classes
END:VEVENT
BEGIN:VEVENT
DTSTART;TZID=UTC:20250813T183000
DTEND;TZID=UTC:20250813T200000
DTSTAMP:20260424T051419
CREATED:20221021T035548Z
LAST-MODIFIED:20221021T035548Z
UID:10013753-1755109800-1755115200@mtadamsbuddhisttemple.org
SUMMARY:Thich Nhat Hanh Study Group Meeting
DESCRIPTION:Thich Nhat Hanh Study Group Meetings are 2nd and 4th Wednesday\, 6:30-8:00 pm. Contact Bonnie for group ZOOM number email\, bon2626wit@att.net
URL:https://mtadamsbuddhisttemple.org/event/thich-nhat-hanh-study-group-meeting/2025-08-13/
LOCATION:Mt. Adams Buddhist Temple\, 46 Stoller Rd\, Trout Lake\, WA\, 98650\, United States
CATEGORIES:Buddhist Classes
END:VEVENT
BEGIN:VEVENT
DTSTART;TZID=UTC:20250910T183000
DTEND;TZID=UTC:20250910T200000
DTSTAMP:20260424T051419
CREATED:20221021T035548Z
LAST-MODIFIED:20221021T035548Z
UID:10013754-1757529000-1757534400@mtadamsbuddhisttemple.org
SUMMARY:Thich Nhat Hanh Study Group Meeting
DESCRIPTION:Thich Nhat Hanh Study Group Meetings are 2nd and 4th Wednesday\, 6:30-8:00 pm. Contact Bonnie for group ZOOM number email\, bon2626wit@att.net
URL:https://mtadamsbuddhisttemple.org/event/thich-nhat-hanh-study-group-meeting/2025-09-10/
LOCATION:Mt. Adams Buddhist Temple\, 46 Stoller Rd\, Trout Lake\, WA\, 98650\, United States
CATEGORIES:Buddhist Classes
END:VEVENT
BEGIN:VEVENT
DTSTART;TZID=UTC:20251008T183000
DTEND;TZID=UTC:20251008T200000
DTSTAMP:20260424T051419
CREATED:20221021T035548Z
LAST-MODIFIED:20221021T035548Z
UID:10013755-1759948200-1759953600@mtadamsbuddhisttemple.org
SUMMARY:Thich Nhat Hanh Study Group Meeting
DESCRIPTION:Thich Nhat Hanh Study Group Meetings are 2nd and 4th Wednesday\, 6:30-8:00 pm. Contact Bonnie for group ZOOM number email\, bon2626wit@att.net
URL:https://mtadamsbuddhisttemple.org/event/thich-nhat-hanh-study-group-meeting/2025-10-08/
LOCATION:Mt. Adams Buddhist Temple\, 46 Stoller Rd\, Trout Lake\, WA\, 98650\, United States
CATEGORIES:Buddhist Classes
END:VEVENT
BEGIN:VEVENT
DTSTART;TZID=UTC:20251112T183000
DTEND;TZID=UTC:20251112T200000
DTSTAMP:20260424T051419
CREATED:20221021T035548Z
LAST-MODIFIED:20221021T035548Z
UID:10013756-1762972200-1762977600@mtadamsbuddhisttemple.org
SUMMARY:Thich Nhat Hanh Study Group Meeting
DESCRIPTION:Thich Nhat Hanh Study Group Meetings are 2nd and 4th Wednesday\, 6:30-8:00 pm. Contact Bonnie for group ZOOM number email\, bon2626wit@att.net
URL:https://mtadamsbuddhisttemple.org/event/thich-nhat-hanh-study-group-meeting/2025-11-12/
LOCATION:Mt. Adams Buddhist Temple\, 46 Stoller Rd\, Trout Lake\, WA\, 98650\, United States
CATEGORIES:Buddhist Classes
END:VEVENT
BEGIN:VEVENT
DTSTART;TZID=UTC:20251210T183000
DTEND;TZID=UTC:20251210T200000
DTSTAMP:20260424T051420
CREATED:20221021T035548Z
LAST-MODIFIED:20221021T035548Z
UID:10013757-1765391400-1765396800@mtadamsbuddhisttemple.org
SUMMARY:Thich Nhat Hanh Study Group Meeting
DESCRIPTION:Thich Nhat Hanh Study Group Meetings are 2nd and 4th Wednesday\, 6:30-8:00 pm. Contact Bonnie for group ZOOM number email\, bon2626wit@att.net
URL:https://mtadamsbuddhisttemple.org/event/thich-nhat-hanh-study-group-meeting/2025-12-10/
LOCATION:Mt. Adams Buddhist Temple\, 46 Stoller Rd\, Trout Lake\, WA\, 98650\, United States
CATEGORIES:Buddhist Classes
END:VEVENT
BEGIN:VEVENT
DTSTART;TZID=UTC:20260114T183000
DTEND;TZID=UTC:20260114T200000
DTSTAMP:20260424T051420
CREATED:20221021T035548Z
LAST-MODIFIED:20221021T035548Z
UID:10013758-1768415400-1768420800@mtadamsbuddhisttemple.org
SUMMARY:Thich Nhat Hanh Study Group Meeting
DESCRIPTION:Thich Nhat Hanh Study Group Meetings are 2nd and 4th Wednesday\, 6:30-8:00 pm. Contact Bonnie for group ZOOM number email\, bon2626wit@att.net
URL:https://mtadamsbuddhisttemple.org/event/thich-nhat-hanh-study-group-meeting/2026-01-14/
LOCATION:Mt. Adams Buddhist Temple\, 46 Stoller Rd\, Trout Lake\, WA\, 98650\, United States
CATEGORIES:Buddhist Classes
END:VEVENT
BEGIN:VEVENT
DTSTART;TZID=UTC:20260211T183000
DTEND;TZID=UTC:20260211T200000
DTSTAMP:20260424T051420
CREATED:20221021T035548Z
LAST-MODIFIED:20221021T035548Z
UID:10013759-1770834600-1770840000@mtadamsbuddhisttemple.org
SUMMARY:Thich Nhat Hanh Study Group Meeting
DESCRIPTION:Thich Nhat Hanh Study Group Meetings are 2nd and 4th Wednesday\, 6:30-8:00 pm. Contact Bonnie for group ZOOM number email\, bon2626wit@att.net
URL:https://mtadamsbuddhisttemple.org/event/thich-nhat-hanh-study-group-meeting/2026-02-11/
LOCATION:Mt. Adams Buddhist Temple\, 46 Stoller Rd\, Trout Lake\, WA\, 98650\, United States
CATEGORIES:Buddhist Classes
END:VEVENT
BEGIN:VEVENT
DTSTART;TZID=UTC:20260311T183000
DTEND;TZID=UTC:20260311T200000
DTSTAMP:20260424T051420
CREATED:20221021T035548Z
LAST-MODIFIED:20221021T035548Z
UID:10013760-1773253800-1773259200@mtadamsbuddhisttemple.org
SUMMARY:Thich Nhat Hanh Study Group Meeting
DESCRIPTION:Thich Nhat Hanh Study Group Meetings are 2nd and 4th Wednesday\, 6:30-8:00 pm. Contact Bonnie for group ZOOM number email\, bon2626wit@att.net
URL:https://mtadamsbuddhisttemple.org/event/thich-nhat-hanh-study-group-meeting/2026-03-11/
LOCATION:Mt. Adams Buddhist Temple\, 46 Stoller Rd\, Trout Lake\, WA\, 98650\, United States
CATEGORIES:Buddhist Classes
END:VEVENT
BEGIN:VEVENT
DTSTART;TZID=UTC:20260408T183000
DTEND;TZID=UTC:20260408T200000
DTSTAMP:20260424T051420
CREATED:20221021T035548Z
LAST-MODIFIED:20221021T035548Z
UID:10013761-1775673000-1775678400@mtadamsbuddhisttemple.org
SUMMARY:Thich Nhat Hanh Study Group Meeting
DESCRIPTION:Thich Nhat Hanh Study Group Meetings are 2nd and 4th Wednesday\, 6:30-8:00 pm. Contact Bonnie for group ZOOM number email\, bon2626wit@att.net
URL:https://mtadamsbuddhisttemple.org/event/thich-nhat-hanh-study-group-meeting/2026-04-08/
LOCATION:Mt. Adams Buddhist Temple\, 46 Stoller Rd\, Trout Lake\, WA\, 98650\, United States
CATEGORIES:Buddhist Classes
END:VEVENT
BEGIN:VEVENT
DTSTART;TZID=UTC:20260513T183000
DTEND;TZID=UTC:20260513T200000
DTSTAMP:20260424T051420
CREATED:20221021T035548Z
LAST-MODIFIED:20221021T035548Z
UID:10013762-1778697000-1778702400@mtadamsbuddhisttemple.org
SUMMARY:Thich Nhat Hanh Study Group Meeting
DESCRIPTION:Thich Nhat Hanh Study Group Meetings are 2nd and 4th Wednesday\, 6:30-8:00 pm. Contact Bonnie for group ZOOM number email\, bon2626wit@att.net
URL:https://mtadamsbuddhisttemple.org/event/thich-nhat-hanh-study-group-meeting/2026-05-13/
LOCATION:Mt. Adams Buddhist Temple\, 46 Stoller Rd\, Trout Lake\, WA\, 98650\, United States
CATEGORIES:Buddhist Classes
END:VEVENT
BEGIN:VEVENT
DTSTART;TZID=UTC:20260610T183000
DTEND;TZID=UTC:20260610T200000
DTSTAMP:20260424T051420
CREATED:20221021T035548Z
LAST-MODIFIED:20221021T035548Z
UID:10013763-1781116200-1781121600@mtadamsbuddhisttemple.org
SUMMARY:Thich Nhat Hanh Study Group Meeting
DESCRIPTION:Thich Nhat Hanh Study Group Meetings are 2nd and 4th Wednesday\, 6:30-8:00 pm. Contact Bonnie for group ZOOM number email\, bon2626wit@att.net
URL:https://mtadamsbuddhisttemple.org/event/thich-nhat-hanh-study-group-meeting/2026-06-10/
LOCATION:Mt. Adams Buddhist Temple\, 46 Stoller Rd\, Trout Lake\, WA\, 98650\, United States
CATEGORIES:Buddhist Classes
END:VEVENT
BEGIN:VEVENT
DTSTART;TZID=UTC:20260708T183000
DTEND;TZID=UTC:20260708T200000
DTSTAMP:20260424T051420
CREATED:20221021T035548Z
LAST-MODIFIED:20221021T035548Z
UID:10013764-1783535400-1783540800@mtadamsbuddhisttemple.org
SUMMARY:Thich Nhat Hanh Study Group Meeting
DESCRIPTION:Thich Nhat Hanh Study Group Meetings are 2nd and 4th Wednesday\, 6:30-8:00 pm. Contact Bonnie for group ZOOM number email\, bon2626wit@att.net
URL:https://mtadamsbuddhisttemple.org/event/thich-nhat-hanh-study-group-meeting/2026-07-08/
LOCATION:Mt. Adams Buddhist Temple\, 46 Stoller Rd\, Trout Lake\, WA\, 98650\, United States
CATEGORIES:Buddhist Classes
END:VEVENT
BEGIN:VEVENT
DTSTART;TZID=UTC:20260812T183000
DTEND;TZID=UTC:20260812T200000
DTSTAMP:20260424T051420
CREATED:20221021T035548Z
LAST-MODIFIED:20221021T035548Z
UID:10013765-1786559400-1786564800@mtadamsbuddhisttemple.org
SUMMARY:Thich Nhat Hanh Study Group Meeting
DESCRIPTION:Thich Nhat Hanh Study Group Meetings are 2nd and 4th Wednesday\, 6:30-8:00 pm. Contact Bonnie for group ZOOM number email\, bon2626wit@att.net
URL:https://mtadamsbuddhisttemple.org/event/thich-nhat-hanh-study-group-meeting/2026-08-12/
LOCATION:Mt. Adams Buddhist Temple\, 46 Stoller Rd\, Trout Lake\, WA\, 98650\, United States
CATEGORIES:Buddhist Classes
END:VEVENT
BEGIN:VEVENT
DTSTART;TZID=UTC:20260909T183000
DTEND;TZID=UTC:20260909T200000
DTSTAMP:20260424T051420
CREATED:20221021T035548Z
LAST-MODIFIED:20221021T035548Z
UID:10013766-1788978600-1788984000@mtadamsbuddhisttemple.org
SUMMARY:Thich Nhat Hanh Study Group Meeting
DESCRIPTION:Thich Nhat Hanh Study Group Meetings are 2nd and 4th Wednesday\, 6:30-8:00 pm. Contact Bonnie for group ZOOM number email\, bon2626wit@att.net
URL:https://mtadamsbuddhisttemple.org/event/thich-nhat-hanh-study-group-meeting/2026-09-09/
LOCATION:Mt. Adams Buddhist Temple\, 46 Stoller Rd\, Trout Lake\, WA\, 98650\, United States
CATEGORIES:Buddhist Classes
END:VEVENT
BEGIN:VEVENT
DTSTART;TZID=UTC:20261014T183000
DTEND;TZID=UTC:20261014T200000
DTSTAMP:20260424T051420
CREATED:20221021T035548Z
LAST-MODIFIED:20221021T035548Z
UID:10013767-1792002600-1792008000@mtadamsbuddhisttemple.org
SUMMARY:Thich Nhat Hanh Study Group Meeting
DESCRIPTION:Thich Nhat Hanh Study Group Meetings are 2nd and 4th Wednesday\, 6:30-8:00 pm. Contact Bonnie for group ZOOM number email\, bon2626wit@att.net
URL:https://mtadamsbuddhisttemple.org/event/thich-nhat-hanh-study-group-meeting/2026-10-14/
LOCATION:Mt. Adams Buddhist Temple\, 46 Stoller Rd\, Trout Lake\, WA\, 98650\, United States
CATEGORIES:Buddhist Classes
END:VEVENT
BEGIN:VEVENT
DTSTART;TZID=UTC:20261111T183000
DTEND;TZID=UTC:20261111T200000
DTSTAMP:20260424T051420
CREATED:20221021T035548Z
LAST-MODIFIED:20221021T035548Z
UID:10013768-1794421800-1794427200@mtadamsbuddhisttemple.org
SUMMARY:Thich Nhat Hanh Study Group Meeting
DESCRIPTION:Thich Nhat Hanh Study Group Meetings are 2nd and 4th Wednesday\, 6:30-8:00 pm. Contact Bonnie for group ZOOM number email\, bon2626wit@att.net
URL:https://mtadamsbuddhisttemple.org/event/thich-nhat-hanh-study-group-meeting/2026-11-11/
LOCATION:Mt. Adams Buddhist Temple\, 46 Stoller Rd\, Trout Lake\, WA\, 98650\, United States
CATEGORIES:Buddhist Classes
END:VEVENT
BEGIN:VEVENT
DTSTART;TZID=UTC:20261209T183000
DTEND;TZID=UTC:20261209T200000
DTSTAMP:20260424T051420
CREATED:20221021T035548Z
LAST-MODIFIED:20221021T035548Z
UID:10013769-1796841000-1796846400@mtadamsbuddhisttemple.org
SUMMARY:Thich Nhat Hanh Study Group Meeting
DESCRIPTION:Thich Nhat Hanh Study Group Meetings are 2nd and 4th Wednesday\, 6:30-8:00 pm. Contact Bonnie for group ZOOM number email\, bon2626wit@att.net
URL:https://mtadamsbuddhisttemple.org/event/thich-nhat-hanh-study-group-meeting/2026-12-09/
LOCATION:Mt. Adams Buddhist Temple\, 46 Stoller Rd\, Trout Lake\, WA\, 98650\, United States
CATEGORIES:Buddhist Classes
END:VEVENT
BEGIN:VEVENT
DTSTART;TZID=UTC:20270113T183000
DTEND;TZID=UTC:20270113T200000
DTSTAMP:20260424T051420
CREATED:20221021T035548Z
LAST-MODIFIED:20221021T035548Z
UID:10013770-1799865000-1799870400@mtadamsbuddhisttemple.org
SUMMARY:Thich Nhat Hanh Study Group Meeting
DESCRIPTION:Thich Nhat Hanh Study Group Meetings are 2nd and 4th Wednesday\, 6:30-8:00 pm. Contact Bonnie for group ZOOM number email\, bon2626wit@att.net
URL:https://mtadamsbuddhisttemple.org/event/thich-nhat-hanh-study-group-meeting/2027-01-13/
LOCATION:Mt. Adams Buddhist Temple\, 46 Stoller Rd\, Trout Lake\, WA\, 98650\, United States
CATEGORIES:Buddhist Classes
END:VEVENT
BEGIN:VEVENT
DTSTART;TZID=UTC:20270210T183000
DTEND;TZID=UTC:20270210T200000
DTSTAMP:20260424T051420
CREATED:20221021T035548Z
LAST-MODIFIED:20221021T035548Z
UID:10013771-1802284200-1802289600@mtadamsbuddhisttemple.org
SUMMARY:Thich Nhat Hanh Study Group Meeting
DESCRIPTION:Thich Nhat Hanh Study Group Meetings are 2nd and 4th Wednesday\, 6:30-8:00 pm. Contact Bonnie for group ZOOM number email\, bon2626wit@att.net
URL:https://mtadamsbuddhisttemple.org/event/thich-nhat-hanh-study-group-meeting/2027-02-10/
LOCATION:Mt. Adams Buddhist Temple\, 46 Stoller Rd\, Trout Lake\, WA\, 98650\, United States
CATEGORIES:Buddhist Classes
END:VEVENT
BEGIN:VEVENT
DTSTART;TZID=UTC:20270310T183000
DTEND;TZID=UTC:20270310T200000
DTSTAMP:20260424T051420
CREATED:20221021T035548Z
LAST-MODIFIED:20221021T035548Z
UID:10013772-1804703400-1804708800@mtadamsbuddhisttemple.org
SUMMARY:Thich Nhat Hanh Study Group Meeting
DESCRIPTION:Thich Nhat Hanh Study Group Meetings are 2nd and 4th Wednesday\, 6:30-8:00 pm. Contact Bonnie for group ZOOM number email\, bon2626wit@att.net
URL:https://mtadamsbuddhisttemple.org/event/thich-nhat-hanh-study-group-meeting/2027-03-10/
LOCATION:Mt. Adams Buddhist Temple\, 46 Stoller Rd\, Trout Lake\, WA\, 98650\, United States
CATEGORIES:Buddhist Classes
END:VEVENT
BEGIN:VEVENT
DTSTART;TZID=UTC:20270414T183000
DTEND;TZID=UTC:20270414T200000
DTSTAMP:20260424T051420
CREATED:20221021T035548Z
LAST-MODIFIED:20221021T035548Z
UID:10013773-1807727400-1807732800@mtadamsbuddhisttemple.org
SUMMARY:Thich Nhat Hanh Study Group Meeting
DESCRIPTION:Thich Nhat Hanh Study Group Meetings are 2nd and 4th Wednesday\, 6:30-8:00 pm. Contact Bonnie for group ZOOM number email\, bon2626wit@att.net
URL:https://mtadamsbuddhisttemple.org/event/thich-nhat-hanh-study-group-meeting/2027-04-14/
LOCATION:Mt. Adams Buddhist Temple\, 46 Stoller Rd\, Trout Lake\, WA\, 98650\, United States
CATEGORIES:Buddhist Classes
END:VEVENT
BEGIN:VEVENT
DTSTART;TZID=UTC:20270512T183000
DTEND;TZID=UTC:20270512T200000
DTSTAMP:20260424T051420
CREATED:20221021T035548Z
LAST-MODIFIED:20221021T035548Z
UID:10013774-1810146600-1810152000@mtadamsbuddhisttemple.org
SUMMARY:Thich Nhat Hanh Study Group Meeting
DESCRIPTION:Thich Nhat Hanh Study Group Meetings are 2nd and 4th Wednesday\, 6:30-8:00 pm. Contact Bonnie for group ZOOM number email\, bon2626wit@att.net
URL:https://mtadamsbuddhisttemple.org/event/thich-nhat-hanh-study-group-meeting/2027-05-12/
LOCATION:Mt. Adams Buddhist Temple\, 46 Stoller Rd\, Trout Lake\, WA\, 98650\, United States
CATEGORIES:Buddhist Classes
END:VEVENT
BEGIN:VEVENT
DTSTART;TZID=UTC:20270609T183000
DTEND;TZID=UTC:20270609T200000
DTSTAMP:20260424T051420
CREATED:20221021T035548Z
LAST-MODIFIED:20221021T035548Z
UID:10013775-1812565800-1812571200@mtadamsbuddhisttemple.org
SUMMARY:Thich Nhat Hanh Study Group Meeting
DESCRIPTION:Thich Nhat Hanh Study Group Meetings are 2nd and 4th Wednesday\, 6:30-8:00 pm. Contact Bonnie for group ZOOM number email\, bon2626wit@att.net
URL:https://mtadamsbuddhisttemple.org/event/thich-nhat-hanh-study-group-meeting/2027-06-09/
LOCATION:Mt. Adams Buddhist Temple\, 46 Stoller Rd\, Trout Lake\, WA\, 98650\, United States
CATEGORIES:Buddhist Classes
END:VEVENT
BEGIN:VEVENT
DTSTART;TZID=UTC:20270714T183000
DTEND;TZID=UTC:20270714T200000
DTSTAMP:20260424T051420
CREATED:20221021T035548Z
LAST-MODIFIED:20221021T035548Z
UID:10013776-1815589800-1815595200@mtadamsbuddhisttemple.org
SUMMARY:Thich Nhat Hanh Study Group Meeting
DESCRIPTION:Thich Nhat Hanh Study Group Meetings are 2nd and 4th Wednesday\, 6:30-8:00 pm. Contact Bonnie for group ZOOM number email\, bon2626wit@att.net
URL:https://mtadamsbuddhisttemple.org/event/thich-nhat-hanh-study-group-meeting/2027-07-14/
LOCATION:Mt. Adams Buddhist Temple\, 46 Stoller Rd\, Trout Lake\, WA\, 98650\, United States
CATEGORIES:Buddhist Classes
END:VEVENT
BEGIN:VEVENT
DTSTART;TZID=UTC:20270811T183000
DTEND;TZID=UTC:20270811T200000
DTSTAMP:20260424T051420
CREATED:20221021T035548Z
LAST-MODIFIED:20221021T035548Z
UID:10013777-1818009000-1818014400@mtadamsbuddhisttemple.org
SUMMARY:Thich Nhat Hanh Study Group Meeting
DESCRIPTION:Thich Nhat Hanh Study Group Meetings are 2nd and 4th Wednesday\, 6:30-8:00 pm. Contact Bonnie for group ZOOM number email\, bon2626wit@att.net
URL:https://mtadamsbuddhisttemple.org/event/thich-nhat-hanh-study-group-meeting/2027-08-11/
LOCATION:Mt. Adams Buddhist Temple\, 46 Stoller Rd\, Trout Lake\, WA\, 98650\, United States
CATEGORIES:Buddhist Classes
END:VEVENT
BEGIN:VEVENT
DTSTART;TZID=UTC:20270908T183000
DTEND;TZID=UTC:20270908T200000
DTSTAMP:20260424T051420
CREATED:20221021T035548Z
LAST-MODIFIED:20221021T035548Z
UID:10013778-1820428200-1820433600@mtadamsbuddhisttemple.org
SUMMARY:Thich Nhat Hanh Study Group Meeting
DESCRIPTION:Thich Nhat Hanh Study Group Meetings are 2nd and 4th Wednesday\, 6:30-8:00 pm. Contact Bonnie for group ZOOM number email\, bon2626wit@att.net
URL:https://mtadamsbuddhisttemple.org/event/thich-nhat-hanh-study-group-meeting/2027-09-08/
LOCATION:Mt. Adams Buddhist Temple\, 46 Stoller Rd\, Trout Lake\, WA\, 98650\, United States
CATEGORIES:Buddhist Classes
END:VEVENT
BEGIN:VEVENT
DTSTART;TZID=UTC:20271013T183000
DTEND;TZID=UTC:20271013T200000
DTSTAMP:20260424T051420
CREATED:20221021T035548Z
LAST-MODIFIED:20221021T035548Z
UID:10013779-1823452200-1823457600@mtadamsbuddhisttemple.org
SUMMARY:Thich Nhat Hanh Study Group Meeting
DESCRIPTION:Thich Nhat Hanh Study Group Meetings are 2nd and 4th Wednesday\, 6:30-8:00 pm. Contact Bonnie for group ZOOM number email\, bon2626wit@att.net
URL:https://mtadamsbuddhisttemple.org/event/thich-nhat-hanh-study-group-meeting/2027-10-13/
LOCATION:Mt. Adams Buddhist Temple\, 46 Stoller Rd\, Trout Lake\, WA\, 98650\, United States
CATEGORIES:Buddhist Classes
END:VEVENT
BEGIN:VEVENT
DTSTART;TZID=UTC:20271110T183000
DTEND;TZID=UTC:20271110T200000
DTSTAMP:20260424T051420
CREATED:20221021T035548Z
LAST-MODIFIED:20221021T035548Z
UID:10013780-1825871400-1825876800@mtadamsbuddhisttemple.org
SUMMARY:Thich Nhat Hanh Study Group Meeting
DESCRIPTION:Thich Nhat Hanh Study Group Meetings are 2nd and 4th Wednesday\, 6:30-8:00 pm. Contact Bonnie for group ZOOM number email\, bon2626wit@att.net
URL:https://mtadamsbuddhisttemple.org/event/thich-nhat-hanh-study-group-meeting/2027-11-10/
LOCATION:Mt. Adams Buddhist Temple\, 46 Stoller Rd\, Trout Lake\, WA\, 98650\, United States
CATEGORIES:Buddhist Classes
END:VEVENT
BEGIN:VEVENT
DTSTART;TZID=UTC:20271208T183000
DTEND;TZID=UTC:20271208T200000
DTSTAMP:20260424T051420
CREATED:20221021T035548Z
LAST-MODIFIED:20221021T035548Z
UID:10013781-1828290600-1828296000@mtadamsbuddhisttemple.org
SUMMARY:Thich Nhat Hanh Study Group Meeting
DESCRIPTION:Thich Nhat Hanh Study Group Meetings are 2nd and 4th Wednesday\, 6:30-8:00 pm. Contact Bonnie for group ZOOM number email\, bon2626wit@att.net
URL:https://mtadamsbuddhisttemple.org/event/thich-nhat-hanh-study-group-meeting/2027-12-08/
LOCATION:Mt. Adams Buddhist Temple\, 46 Stoller Rd\, Trout Lake\, WA\, 98650\, United States
CATEGORIES:Buddhist Classes
END:VEVENT
END:VCALENDAR