BEGIN:VCALENDAR
VERSION:2.0
PRODID:-//Mount Adams Buddhist Temple - ECPv6.15.20//NONSGML v1.0//EN
CALSCALE:GREGORIAN
METHOD:PUBLISH
X-WR-CALNAME:Mount Adams Buddhist Temple
X-ORIGINAL-URL:https://mtadamsbuddhisttemple.org
X-WR-CALDESC:Events for Mount Adams Buddhist Temple
REFRESH-INTERVAL;VALUE=DURATION:PT1H
X-Robots-Tag:noindex
X-PUBLISHED-TTL:PT1H
BEGIN:VTIMEZONE
TZID:UTC
BEGIN:STANDARD
TZOFFSETFROM:+0000
TZOFFSETTO:+0000
TZNAME:UTC
DTSTART:20270101T000000
END:STANDARD
END:VTIMEZONE
BEGIN:VEVENT
DTSTART;TZID=UTC:20281213T183000
DTEND;TZID=UTC:20281213T200000
DTSTAMP:20260419T213627
CREATED:20221021T035548Z
LAST-MODIFIED:20221021T035548Z
UID:10013793-1860345000-1860350400@mtadamsbuddhisttemple.org
SUMMARY:Thich Nhat Hanh Study Group Meeting
DESCRIPTION:Thich Nhat Hanh Study Group Meetings are 2nd and 4th Wednesday\, 6:30-8:00 pm. Contact Bonnie for group ZOOM number email\, bon2626wit@att.net
URL:https://mtadamsbuddhisttemple.org/event/thich-nhat-hanh-study-group-meeting/2028-12-13/
LOCATION:Mt. Adams Buddhist Temple\, 46 Stoller Rd\, Trout Lake\, WA\, 98650\, United States
CATEGORIES:Buddhist Classes
END:VEVENT
BEGIN:VEVENT
DTSTART;TZID=UTC:20290110T183000
DTEND;TZID=UTC:20290110T200000
DTSTAMP:20260419T213627
CREATED:20221021T035548Z
LAST-MODIFIED:20221021T035548Z
UID:10013794-1862764200-1862769600@mtadamsbuddhisttemple.org
SUMMARY:Thich Nhat Hanh Study Group Meeting
DESCRIPTION:Thich Nhat Hanh Study Group Meetings are 2nd and 4th Wednesday\, 6:30-8:00 pm. Contact Bonnie for group ZOOM number email\, bon2626wit@att.net
URL:https://mtadamsbuddhisttemple.org/event/thich-nhat-hanh-study-group-meeting/2029-01-10/
LOCATION:Mt. Adams Buddhist Temple\, 46 Stoller Rd\, Trout Lake\, WA\, 98650\, United States
CATEGORIES:Buddhist Classes
END:VEVENT
BEGIN:VEVENT
DTSTART;TZID=UTC:20290214T183000
DTEND;TZID=UTC:20290214T200000
DTSTAMP:20260419T213627
CREATED:20221021T035548Z
LAST-MODIFIED:20221021T035548Z
UID:10013795-1865788200-1865793600@mtadamsbuddhisttemple.org
SUMMARY:Thich Nhat Hanh Study Group Meeting
DESCRIPTION:Thich Nhat Hanh Study Group Meetings are 2nd and 4th Wednesday\, 6:30-8:00 pm. Contact Bonnie for group ZOOM number email\, bon2626wit@att.net
URL:https://mtadamsbuddhisttemple.org/event/thich-nhat-hanh-study-group-meeting/2029-02-14/
LOCATION:Mt. Adams Buddhist Temple\, 46 Stoller Rd\, Trout Lake\, WA\, 98650\, United States
CATEGORIES:Buddhist Classes
END:VEVENT
BEGIN:VEVENT
DTSTART;TZID=UTC:20290314T183000
DTEND;TZID=UTC:20290314T200000
DTSTAMP:20260419T213627
CREATED:20221021T035548Z
LAST-MODIFIED:20221021T035548Z
UID:10013796-1868207400-1868212800@mtadamsbuddhisttemple.org
SUMMARY:Thich Nhat Hanh Study Group Meeting
DESCRIPTION:Thich Nhat Hanh Study Group Meetings are 2nd and 4th Wednesday\, 6:30-8:00 pm. Contact Bonnie for group ZOOM number email\, bon2626wit@att.net
URL:https://mtadamsbuddhisttemple.org/event/thich-nhat-hanh-study-group-meeting/2029-03-14/
LOCATION:Mt. Adams Buddhist Temple\, 46 Stoller Rd\, Trout Lake\, WA\, 98650\, United States
CATEGORIES:Buddhist Classes
END:VEVENT
BEGIN:VEVENT
DTSTART;TZID=UTC:20290411T183000
DTEND;TZID=UTC:20290411T200000
DTSTAMP:20260419T213627
CREATED:20221021T035548Z
LAST-MODIFIED:20221021T035548Z
UID:10013797-1870626600-1870632000@mtadamsbuddhisttemple.org
SUMMARY:Thich Nhat Hanh Study Group Meeting
DESCRIPTION:Thich Nhat Hanh Study Group Meetings are 2nd and 4th Wednesday\, 6:30-8:00 pm. Contact Bonnie for group ZOOM number email\, bon2626wit@att.net
URL:https://mtadamsbuddhisttemple.org/event/thich-nhat-hanh-study-group-meeting/2029-04-11/
LOCATION:Mt. Adams Buddhist Temple\, 46 Stoller Rd\, Trout Lake\, WA\, 98650\, United States
CATEGORIES:Buddhist Classes
END:VEVENT
BEGIN:VEVENT
DTSTART;TZID=UTC:20290509T183000
DTEND;TZID=UTC:20290509T200000
DTSTAMP:20260419T213627
CREATED:20221021T035548Z
LAST-MODIFIED:20221021T035548Z
UID:10013798-1873045800-1873051200@mtadamsbuddhisttemple.org
SUMMARY:Thich Nhat Hanh Study Group Meeting
DESCRIPTION:Thich Nhat Hanh Study Group Meetings are 2nd and 4th Wednesday\, 6:30-8:00 pm. Contact Bonnie for group ZOOM number email\, bon2626wit@att.net
URL:https://mtadamsbuddhisttemple.org/event/thich-nhat-hanh-study-group-meeting/2029-05-09/
LOCATION:Mt. Adams Buddhist Temple\, 46 Stoller Rd\, Trout Lake\, WA\, 98650\, United States
CATEGORIES:Buddhist Classes
END:VEVENT
BEGIN:VEVENT
DTSTART;TZID=UTC:20290613T183000
DTEND;TZID=UTC:20290613T200000
DTSTAMP:20260419T213627
CREATED:20221021T035548Z
LAST-MODIFIED:20221021T035548Z
UID:10013799-1876069800-1876075200@mtadamsbuddhisttemple.org
SUMMARY:Thich Nhat Hanh Study Group Meeting
DESCRIPTION:Thich Nhat Hanh Study Group Meetings are 2nd and 4th Wednesday\, 6:30-8:00 pm. Contact Bonnie for group ZOOM number email\, bon2626wit@att.net
URL:https://mtadamsbuddhisttemple.org/event/thich-nhat-hanh-study-group-meeting/2029-06-13/
LOCATION:Mt. Adams Buddhist Temple\, 46 Stoller Rd\, Trout Lake\, WA\, 98650\, United States
CATEGORIES:Buddhist Classes
END:VEVENT
BEGIN:VEVENT
DTSTART;TZID=UTC:20290711T183000
DTEND;TZID=UTC:20290711T200000
DTSTAMP:20260419T213627
CREATED:20221021T035548Z
LAST-MODIFIED:20221021T035548Z
UID:10013800-1878489000-1878494400@mtadamsbuddhisttemple.org
SUMMARY:Thich Nhat Hanh Study Group Meeting
DESCRIPTION:Thich Nhat Hanh Study Group Meetings are 2nd and 4th Wednesday\, 6:30-8:00 pm. Contact Bonnie for group ZOOM number email\, bon2626wit@att.net
URL:https://mtadamsbuddhisttemple.org/event/thich-nhat-hanh-study-group-meeting/2029-07-11/
LOCATION:Mt. Adams Buddhist Temple\, 46 Stoller Rd\, Trout Lake\, WA\, 98650\, United States
CATEGORIES:Buddhist Classes
END:VEVENT
BEGIN:VEVENT
DTSTART;TZID=UTC:20290808T183000
DTEND;TZID=UTC:20290808T200000
DTSTAMP:20260419T213627
CREATED:20221021T035548Z
LAST-MODIFIED:20221021T035548Z
UID:10013801-1880908200-1880913600@mtadamsbuddhisttemple.org
SUMMARY:Thich Nhat Hanh Study Group Meeting
DESCRIPTION:Thich Nhat Hanh Study Group Meetings are 2nd and 4th Wednesday\, 6:30-8:00 pm. Contact Bonnie for group ZOOM number email\, bon2626wit@att.net
URL:https://mtadamsbuddhisttemple.org/event/thich-nhat-hanh-study-group-meeting/2029-08-08/
LOCATION:Mt. Adams Buddhist Temple\, 46 Stoller Rd\, Trout Lake\, WA\, 98650\, United States
CATEGORIES:Buddhist Classes
END:VEVENT
BEGIN:VEVENT
DTSTART;TZID=UTC:20290912T183000
DTEND;TZID=UTC:20290912T200000
DTSTAMP:20260419T213627
CREATED:20221021T035548Z
LAST-MODIFIED:20221021T035548Z
UID:10013802-1883932200-1883937600@mtadamsbuddhisttemple.org
SUMMARY:Thich Nhat Hanh Study Group Meeting
DESCRIPTION:Thich Nhat Hanh Study Group Meetings are 2nd and 4th Wednesday\, 6:30-8:00 pm. Contact Bonnie for group ZOOM number email\, bon2626wit@att.net
URL:https://mtadamsbuddhisttemple.org/event/thich-nhat-hanh-study-group-meeting/2029-09-12/
LOCATION:Mt. Adams Buddhist Temple\, 46 Stoller Rd\, Trout Lake\, WA\, 98650\, United States
CATEGORIES:Buddhist Classes
END:VEVENT
BEGIN:VEVENT
DTSTART;TZID=UTC:20291010T183000
DTEND;TZID=UTC:20291010T200000
DTSTAMP:20260419T213627
CREATED:20221021T035548Z
LAST-MODIFIED:20221021T035548Z
UID:10013803-1886351400-1886356800@mtadamsbuddhisttemple.org
SUMMARY:Thich Nhat Hanh Study Group Meeting
DESCRIPTION:Thich Nhat Hanh Study Group Meetings are 2nd and 4th Wednesday\, 6:30-8:00 pm. Contact Bonnie for group ZOOM number email\, bon2626wit@att.net
URL:https://mtadamsbuddhisttemple.org/event/thich-nhat-hanh-study-group-meeting/2029-10-10/
LOCATION:Mt. Adams Buddhist Temple\, 46 Stoller Rd\, Trout Lake\, WA\, 98650\, United States
CATEGORIES:Buddhist Classes
END:VEVENT
BEGIN:VEVENT
DTSTART;TZID=UTC:20291114T183000
DTEND;TZID=UTC:20291114T200000
DTSTAMP:20260419T213627
CREATED:20221021T035548Z
LAST-MODIFIED:20221021T035548Z
UID:10013804-1889375400-1889380800@mtadamsbuddhisttemple.org
SUMMARY:Thich Nhat Hanh Study Group Meeting
DESCRIPTION:Thich Nhat Hanh Study Group Meetings are 2nd and 4th Wednesday\, 6:30-8:00 pm. Contact Bonnie for group ZOOM number email\, bon2626wit@att.net
URL:https://mtadamsbuddhisttemple.org/event/thich-nhat-hanh-study-group-meeting/2029-11-14/
LOCATION:Mt. Adams Buddhist Temple\, 46 Stoller Rd\, Trout Lake\, WA\, 98650\, United States
CATEGORIES:Buddhist Classes
END:VEVENT
BEGIN:VEVENT
DTSTART;TZID=UTC:20291212T183000
DTEND;TZID=UTC:20291212T200000
DTSTAMP:20260419T213627
CREATED:20221021T035548Z
LAST-MODIFIED:20221021T035548Z
UID:10013805-1891794600-1891800000@mtadamsbuddhisttemple.org
SUMMARY:Thich Nhat Hanh Study Group Meeting
DESCRIPTION:Thich Nhat Hanh Study Group Meetings are 2nd and 4th Wednesday\, 6:30-8:00 pm. Contact Bonnie for group ZOOM number email\, bon2626wit@att.net
URL:https://mtadamsbuddhisttemple.org/event/thich-nhat-hanh-study-group-meeting/2029-12-12/
LOCATION:Mt. Adams Buddhist Temple\, 46 Stoller Rd\, Trout Lake\, WA\, 98650\, United States
CATEGORIES:Buddhist Classes
END:VEVENT
BEGIN:VEVENT
DTSTART;TZID=UTC:20300109T183000
DTEND;TZID=UTC:20300109T200000
DTSTAMP:20260419T213627
CREATED:20221021T035548Z
LAST-MODIFIED:20221021T035548Z
UID:10013806-1894213800-1894219200@mtadamsbuddhisttemple.org
SUMMARY:Thich Nhat Hanh Study Group Meeting
DESCRIPTION:Thich Nhat Hanh Study Group Meetings are 2nd and 4th Wednesday\, 6:30-8:00 pm. Contact Bonnie for group ZOOM number email\, bon2626wit@att.net
URL:https://mtadamsbuddhisttemple.org/event/thich-nhat-hanh-study-group-meeting/2030-01-09/
LOCATION:Mt. Adams Buddhist Temple\, 46 Stoller Rd\, Trout Lake\, WA\, 98650\, United States
CATEGORIES:Buddhist Classes
END:VEVENT
BEGIN:VEVENT
DTSTART;TZID=UTC:20300213T183000
DTEND;TZID=UTC:20300213T200000
DTSTAMP:20260419T213627
CREATED:20221021T035548Z
LAST-MODIFIED:20221021T035548Z
UID:10013896-1897237800-1897243200@mtadamsbuddhisttemple.org
SUMMARY:Thich Nhat Hanh Study Group Meeting
DESCRIPTION:Thich Nhat Hanh Study Group Meetings are 2nd and 4th Wednesday\, 6:30-8:00 pm. Contact Bonnie for group ZOOM number email\, bon2626wit@att.net
URL:https://mtadamsbuddhisttemple.org/event/thich-nhat-hanh-study-group-meeting/2030-02-13/
LOCATION:Mt. Adams Buddhist Temple\, 46 Stoller Rd\, Trout Lake\, WA\, 98650\, United States
CATEGORIES:Buddhist Classes
END:VEVENT
BEGIN:VEVENT
DTSTART;TZID=UTC:20300313T183000
DTEND;TZID=UTC:20300313T200000
DTSTAMP:20260419T213627
CREATED:20221021T035548Z
LAST-MODIFIED:20221021T035548Z
UID:10013979-1899657000-1899662400@mtadamsbuddhisttemple.org
SUMMARY:Thich Nhat Hanh Study Group Meeting
DESCRIPTION:Thich Nhat Hanh Study Group Meetings are 2nd and 4th Wednesday\, 6:30-8:00 pm. Contact Bonnie for group ZOOM number email\, bon2626wit@att.net
URL:https://mtadamsbuddhisttemple.org/event/thich-nhat-hanh-study-group-meeting/2030-03-13/
LOCATION:Mt. Adams Buddhist Temple\, 46 Stoller Rd\, Trout Lake\, WA\, 98650\, United States
CATEGORIES:Buddhist Classes
END:VEVENT
BEGIN:VEVENT
DTSTART;TZID=UTC:20300410T183000
DTEND;TZID=UTC:20300410T200000
DTSTAMP:20260419T213627
CREATED:20221021T035548Z
LAST-MODIFIED:20221021T035548Z
UID:10013997-1902076200-1902081600@mtadamsbuddhisttemple.org
SUMMARY:Thich Nhat Hanh Study Group Meeting
DESCRIPTION:Thich Nhat Hanh Study Group Meetings are 2nd and 4th Wednesday\, 6:30-8:00 pm. Contact Bonnie for group ZOOM number email\, bon2626wit@att.net
URL:https://mtadamsbuddhisttemple.org/event/thich-nhat-hanh-study-group-meeting/2030-04-10/
LOCATION:Mt. Adams Buddhist Temple\, 46 Stoller Rd\, Trout Lake\, WA\, 98650\, United States
CATEGORIES:Buddhist Classes
END:VEVENT
BEGIN:VEVENT
DTSTART;TZID=UTC:20300508T183000
DTEND;TZID=UTC:20300508T200000
DTSTAMP:20260419T213627
CREATED:20221021T035548Z
LAST-MODIFIED:20221021T035548Z
UID:10014016-1904495400-1904500800@mtadamsbuddhisttemple.org
SUMMARY:Thich Nhat Hanh Study Group Meeting
DESCRIPTION:Thich Nhat Hanh Study Group Meetings are 2nd and 4th Wednesday\, 6:30-8:00 pm. Contact Bonnie for group ZOOM number email\, bon2626wit@att.net
URL:https://mtadamsbuddhisttemple.org/event/thich-nhat-hanh-study-group-meeting/2030-05-08/
LOCATION:Mt. Adams Buddhist Temple\, 46 Stoller Rd\, Trout Lake\, WA\, 98650\, United States
CATEGORIES:Buddhist Classes
END:VEVENT
BEGIN:VEVENT
DTSTART;TZID=UTC:20300612T183000
DTEND;TZID=UTC:20300612T200000
DTSTAMP:20260419T213627
CREATED:20221021T035548Z
LAST-MODIFIED:20221021T035548Z
UID:10014033-1907519400-1907524800@mtadamsbuddhisttemple.org
SUMMARY:Thich Nhat Hanh Study Group Meeting
DESCRIPTION:Thich Nhat Hanh Study Group Meetings are 2nd and 4th Wednesday\, 6:30-8:00 pm. Contact Bonnie for group ZOOM number email\, bon2626wit@att.net
URL:https://mtadamsbuddhisttemple.org/event/thich-nhat-hanh-study-group-meeting/2030-06-12/
LOCATION:Mt. Adams Buddhist Temple\, 46 Stoller Rd\, Trout Lake\, WA\, 98650\, United States
CATEGORIES:Buddhist Classes
END:VEVENT
BEGIN:VEVENT
DTSTART;TZID=UTC:20300710T183000
DTEND;TZID=UTC:20300710T200000
DTSTAMP:20260419T213627
CREATED:20221021T035548Z
LAST-MODIFIED:20221021T035548Z
UID:10014400-1909938600-1909944000@mtadamsbuddhisttemple.org
SUMMARY:Thich Nhat Hanh Study Group Meeting
DESCRIPTION:Thich Nhat Hanh Study Group Meetings are 2nd and 4th Wednesday\, 6:30-8:00 pm. Contact Bonnie for group ZOOM number email\, bon2626wit@att.net
URL:https://mtadamsbuddhisttemple.org/event/thich-nhat-hanh-study-group-meeting/2030-07-10/
LOCATION:Mt. Adams Buddhist Temple\, 46 Stoller Rd\, Trout Lake\, WA\, 98650\, United States
CATEGORIES:Buddhist Classes
END:VEVENT
BEGIN:VEVENT
DTSTART;TZID=UTC:20300814T183000
DTEND;TZID=UTC:20300814T200000
DTSTAMP:20260419T213627
CREATED:20221021T035548Z
LAST-MODIFIED:20221021T035548Z
UID:10014708-1912962600-1912968000@mtadamsbuddhisttemple.org
SUMMARY:Thich Nhat Hanh Study Group Meeting
DESCRIPTION:Thich Nhat Hanh Study Group Meetings are 2nd and 4th Wednesday\, 6:30-8:00 pm. Contact Bonnie for group ZOOM number email\, bon2626wit@att.net
URL:https://mtadamsbuddhisttemple.org/event/thich-nhat-hanh-study-group-meeting/2030-08-14/
LOCATION:Mt. Adams Buddhist Temple\, 46 Stoller Rd\, Trout Lake\, WA\, 98650\, United States
CATEGORIES:Buddhist Classes
END:VEVENT
BEGIN:VEVENT
DTSTART;TZID=UTC:20300911T183000
DTEND;TZID=UTC:20300911T200000
DTSTAMP:20260419T213627
CREATED:20221021T035548Z
LAST-MODIFIED:20221021T035548Z
UID:10014746-1915381800-1915387200@mtadamsbuddhisttemple.org
SUMMARY:Thich Nhat Hanh Study Group Meeting
DESCRIPTION:Thich Nhat Hanh Study Group Meetings are 2nd and 4th Wednesday\, 6:30-8:00 pm. Contact Bonnie for group ZOOM number email\, bon2626wit@att.net
URL:https://mtadamsbuddhisttemple.org/event/thich-nhat-hanh-study-group-meeting/2030-09-11/
LOCATION:Mt. Adams Buddhist Temple\, 46 Stoller Rd\, Trout Lake\, WA\, 98650\, United States
CATEGORIES:Buddhist Classes
END:VEVENT
END:VCALENDAR