BEGIN:VCALENDAR
VERSION:2.0
PRODID:-//Mount Adams Buddhist Temple - ECPv6.15.20//NONSGML v1.0//EN
CALSCALE:GREGORIAN
METHOD:PUBLISH
X-WR-CALNAME:Mount Adams Buddhist Temple
X-ORIGINAL-URL:https://mtadamsbuddhisttemple.org
X-WR-CALDESC:Events for Mount Adams Buddhist Temple
REFRESH-INTERVAL;VALUE=DURATION:PT1H
X-Robots-Tag:noindex
X-PUBLISHED-TTL:PT1H
BEGIN:VTIMEZONE
TZID:America/Los_Angeles
BEGIN:DAYLIGHT
TZOFFSETFROM:-0800
TZOFFSETTO:-0700
TZNAME:PDT
DTSTART:20240310T100000
END:DAYLIGHT
BEGIN:STANDARD
TZOFFSETFROM:-0700
TZOFFSETTO:-0800
TZNAME:PST
DTSTART:20241103T090000
END:STANDARD
BEGIN:DAYLIGHT
TZOFFSETFROM:-0800
TZOFFSETTO:-0700
TZNAME:PDT
DTSTART:20250309T100000
END:DAYLIGHT
BEGIN:STANDARD
TZOFFSETFROM:-0700
TZOFFSETTO:-0800
TZNAME:PST
DTSTART:20251102T090000
END:STANDARD
BEGIN:DAYLIGHT
TZOFFSETFROM:-0800
TZOFFSETTO:-0700
TZNAME:PDT
DTSTART:20260308T100000
END:DAYLIGHT
BEGIN:STANDARD
TZOFFSETFROM:-0700
TZOFFSETTO:-0800
TZNAME:PST
DTSTART:20261101T090000
END:STANDARD
END:VTIMEZONE
BEGIN:VEVENT
DTSTART;VALUE=DATE:20250328
DTEND;VALUE=DATE:20250331
DTSTAMP:20260423T024405
CREATED:20250212T184914Z
LAST-MODIFIED:20250212T190129Z
UID:10013895-1743120000-1743379199@mtadamsbuddhisttemple.org
SUMMARY:Quan Am Commemoration - A Day of Pilgrimage and Prayer & 35th Year Anniversary
DESCRIPTION:Namo Sakyamuni Buddha! \nHonorable Guests: \nGraced with the blessings from the Triple Jewels\, the safeguard from the Dharma Protectors\, the support\, the encouragement and the contributions from the communities of Buddhists and friends in Houston and all over the world\, the Vietnam Buddhist Center (VNBC) finally has a new Buddha Hall and new Sangha quarters\, after its collapse on October 30th\, 2014. \nThe Inaugural Ceremony of the New Buddha Hall will be organized in conjunction with the Quan Am Commemoration – A Day of Pilgrimage and Prayer on the 28th 29th and 30th day of March 2025. This is also an occasion for the VNBC in Houston\, Texas\, USA to celebrate its 35th Anniversary (1990 – 2025). \nThe Congregation of the VNBC respectfully invites all the communities of Sangha and Buddhists\, fellow Vietnamese\, friends of different races and culture\, to come and join us in celebrating this joyful observance. \nWith our earnest wish\, we pray that you will accept this invitation to come and join hands with us to celebrate the three days of this momentous event. \nRespectfully yours\, \nThe Vietnam Buddhist Center\, Houston\, Texas\, USA \nPROGRAM\nFRIDAY MARCH 28th 2025\n06:30 PM: – THE GENERAL OPENING CEREMONY \n\nThe delightful dance “The Noble Beauties of Lotus”\nThe Three Steps – One Prostration Pilgrimage Candle Light Prayers\n\nSATURDAY MARCH 29th 2025\n07:00 AM: ONE THOUSAND HANDS AND ONE THOUSAND EYES BODHIMANDALA\n09:30 AM: Dharma talk and Mindfulness Practice (English)\n02:00 PM Dharma discourse and Q & A (Vietnamese)\n12:00 PM – 5:00 PM: Folklore Activities: Poetry\, Calligraphy\, Vegetarian Culinary\, Lion Dance\, Entertainment…\n06:00 PM: THE OFFICIAL CEREMONY OF QUAN AM COMMEMORATION \nPart I:  Prayer Service: \n\nThe Majestic Dance: “Avalokiteshvara Bodhisattva”\nThe Official Prayer Service Lighting Up the Fire of Compassion\n\nPart II: Folklore Festival: \n\nRendition of the Flags\nEntertainment performances with theme: “Fulfilling The Great Vows”\n\nSUNDAY MARCH 30rd 2025\n10:30 AM: INAUGURATION OF THE NEW BUDDHA HALL \n\nGrand Performances: “Miraculous Presence of the Compassionate Heart”\nRibbon Cutting Ceremony\nCommemorating The 35th Anniversary of The Vietnam Buddhist Center (1990 – 2025).\nEntertainment – Vegetarian meal – End
URL:https://mtadamsbuddhisttemple.org/event/quan-am-commemoration-a-day-of-pilgrimage-and-prayer-35th-year-anniversary/
LOCATION:Vietnam Buddhist Center\, 10002 Synott Rd.\, Sugar Land\, TX\, 77498\, United States
CATEGORIES:Buddhist Meditations, Events, & Services,Featured
ATTACH;FMTTYPE=image/jpeg:https://mtadamsbuddhisttemple.org/wp-content/uploads/2025/02/vnbc-tx.jpg
END:VEVENT
END:VCALENDAR